BEGIN:VCALENDAR
VERSION:2.0
PRODID:-//pretix//pretix.eu//
BEGIN:VTIMEZONE
TZID:Europe/Berlin
BEGIN:STANDARD
DTSTART:20001029T040000
RRULE:FREQ=YEARLY;BYDAY=-1SU;BYMONTH=10
TZNAME:CET
TZOFFSETFROM:+0200
TZOFFSETTO:+0100
END:STANDARD
BEGIN:DAYLIGHT
DTSTART:20000326T030000
RRULE:FREQ=YEARLY;BYDAY=-1SU;BYMONTH=3
TZNAME:CEST
TZOFFSETFROM:+0100
TZOFFSETTO:+0200
END:DAYLIGHT
END:VTIMEZONE
BEGIN:VEVENT
UID:pretix-kunstkerk-rondJob-4543062@tickets.kunstkerk.com
DTSTART;TZID=Europe/Berlin:20250608T140000
DTEND;TZID=Europe/Berlin:20250608T150000
DESCRIPTION:Kaartjes: https://tickets.kunstkerk.com/rondJob/4543062/\nOrgan
 isator: KUNSTKERK
DTSTAMP:20260422T021846Z
LOCATION:Kunstkerk Dordrecht
SUMMARY:Rondleiding | STUDIO JOB | Dust to Dust
END:VEVENT
END:VCALENDAR
