BEGIN:VCALENDAR
VERSION:2.0
PRODID:-//pretix//pretix.eu//
BEGIN:VTIMEZONE
TZID:Europe/Berlin
BEGIN:STANDARD
DTSTART:20001029T040000
RRULE:FREQ=YEARLY;BYDAY=-1SU;BYMONTH=10
TZNAME:CET
TZOFFSETFROM:+0200
TZOFFSETTO:+0100
END:STANDARD
BEGIN:DAYLIGHT
DTSTART:20000326T030000
RRULE:FREQ=YEARLY;BYDAY=-1SU;BYMONTH=3
TZNAME:CEST
TZOFFSETFROM:+0100
TZOFFSETTO:+0200
END:DAYLIGHT
END:VTIMEZONE
BEGIN:VEVENT
UID:pretix-kunstkerk-rondWWIW-4317213@tickets.kunstkerk.com
DTSTART;TZID=Europe/Berlin:20241221T200000
DTEND;TZID=Europe/Berlin:20241221T210000
DESCRIPTION:Kaartjes: https://tickets.kunstkerk.com/rondWWIW/4317213/\nOrga
 nisator: KUNSTKERK
DTSTAMP:20260419T165612Z
LOCATION:Kunstkerk dordrecht
SUMMARY:Rondleiding WHETHER WEATHER INSIDE WEATHER
END:VEVENT
END:VCALENDAR
